BEGIN:VCALENDAR
VERSION:2.0
PRODID:-//Choral Events - ECPv6.15.20//NONSGML v1.0//EN
CALSCALE:GREGORIAN
METHOD:PUBLISH
X-WR-CALNAME:Choral Events
X-ORIGINAL-URL:https://www.choral-events.com
X-WR-CALDESC:Évènements pour Choral Events
REFRESH-INTERVAL;VALUE=DURATION:PT1H
X-Robots-Tag:noindex
X-PUBLISHED-TTL:PT1H
BEGIN:VTIMEZONE
TZID:Europe/Paris
BEGIN:DAYLIGHT
TZOFFSETFROM:+0100
TZOFFSETTO:+0200
TZNAME:CEST
DTSTART:20250330T010000
END:DAYLIGHT
BEGIN:STANDARD
TZOFFSETFROM:+0200
TZOFFSETTO:+0100
TZNAME:CET
DTSTART:20251026T010000
END:STANDARD
BEGIN:DAYLIGHT
TZOFFSETFROM:+0100
TZOFFSETTO:+0200
TZNAME:CEST
DTSTART:20260329T010000
END:DAYLIGHT
BEGIN:STANDARD
TZOFFSETFROM:+0200
TZOFFSETTO:+0100
TZNAME:CET
DTSTART:20261025T010000
END:STANDARD
BEGIN:DAYLIGHT
TZOFFSETFROM:+0100
TZOFFSETTO:+0200
TZNAME:CEST
DTSTART:20270328T010000
END:DAYLIGHT
BEGIN:STANDARD
TZOFFSETFROM:+0200
TZOFFSETTO:+0100
TZNAME:CET
DTSTART:20271031T010000
END:STANDARD
END:VTIMEZONE
BEGIN:VEVENT
DTSTART;VALUE=DATE:20260323
DTEND;VALUE=DATE:20260428
DTSTAMP:20260423T162311
CREATED:20260120T190347Z
LAST-MODIFIED:20260305T144702Z
UID:46153-1774224000-1777334399@www.choral-events.com
SUMMARY:Festival Choral International en Toscane 2026
DESCRIPTION:
URL:https://www.choral-events.com/festival/festival-choral-international-en-toscane-2026/
LOCATION:Toscane\, Italy
CATEGORIES:2026,Festivals,Italie
ATTACH;FMTTYPE=image/jpeg:https://www.choral-events.com/wp-content/uploads/2026/01/Toscane.jpg
END:VEVENT
BEGIN:VEVENT
DTSTART;VALUE=DATE:20260401
DTEND;VALUE=DATE:20260701
DTSTAMP:20260423T162311
CREATED:20260120T191715Z
LAST-MODIFIED:20260307T133206Z
UID:46157-1775001600-1782863999@www.choral-events.com
SUMMARY:Rencontres Chorales du Soleil 2026
DESCRIPTION:
URL:https://www.choral-events.com/festival/rencontres-chorales-du-soleil-2026/
LOCATION:Provence & Côte d’Azur\, France
CATEGORIES:2026,Festivals,Festivals France,France
ATTACH;FMTTYPE=image/jpeg:https://www.choral-events.com/wp-content/uploads/2026/01/Cote-dAzur.jpg
END:VEVENT
BEGIN:VEVENT
DTSTART;VALUE=DATE:20260507
DTEND;VALUE=DATE:20260512
DTSTAMP:20260423T162311
CREATED:20260120T192318Z
LAST-MODIFIED:20260205T090428Z
UID:46163-1778112000-1778543999@www.choral-events.com
SUMMARY:Festival Choral International de Slovénie 2026
DESCRIPTION:
URL:https://www.choral-events.com/festival/festival-choral-international-en-slovenie-2026/
LOCATION:Ljubljana\, Slovenia
CATEGORIES:2026,Festivals,Slovénie
ATTACH;FMTTYPE=image/jpeg:https://www.choral-events.com/wp-content/uploads/2026/01/CHoral-Events-Festivals-photo-a-la-Une-1.jpg
END:VEVENT
BEGIN:VEVENT
DTSTART;VALUE=DATE:20260521
DTEND;VALUE=DATE:20260526
DTSTAMP:20260423T162311
CREATED:20260120T192958Z
LAST-MODIFIED:20260206T115940Z
UID:46166-1779321600-1779753599@www.choral-events.com
SUMMARY:Festival Choral International de Milan 2026
DESCRIPTION:
URL:https://www.choral-events.com/festival/festival-choral-international-de-milan-2026/
LOCATION:Milan\, Italy
CATEGORIES:2026,Festivals,Italie
ATTACH;FMTTYPE=image/jpeg:https://www.choral-events.com/wp-content/uploads/2026/01/Milan-2.jpg
END:VEVENT
BEGIN:VEVENT
DTSTART;VALUE=DATE:20260528
DTEND;VALUE=DATE:20260602
DTSTAMP:20260423T162311
CREATED:20251111T162117Z
LAST-MODIFIED:20260206T191547Z
UID:3840-1779926400-1780358399@www.choral-events.com
SUMMARY:Festival Choral International en Normandie 2026
DESCRIPTION:
URL:https://www.choral-events.com/festival/festival-choral-international-en-normandie-2026/
LOCATION:Normandie\, France
CATEGORIES:2026,Festivals,Festivals France,France
ATTACH;FMTTYPE=image/jpeg:https://www.choral-events.com/wp-content/uploads/2025/12/Normandie.jpg
END:VEVENT
BEGIN:VEVENT
DTSTART;VALUE=DATE:20260611
DTEND;VALUE=DATE:20260616
DTSTAMP:20260423T162311
CREATED:20260202T094540Z
LAST-MODIFIED:20260205T090200Z
UID:46356-1781136000-1781567999@www.choral-events.com
SUMMARY:Festival Choral International de Rome 2026
DESCRIPTION:
URL:https://www.choral-events.com/festival/festival-choral-international-de-rome-2026/
CATEGORIES:2026,Festivals,Italie
ATTACH;FMTTYPE=image/jpeg:https://www.choral-events.com/wp-content/uploads/2026/01/Rome.jpg
END:VEVENT
BEGIN:VEVENT
DTSTART;VALUE=DATE:20260701
DTEND;VALUE=DATE:20260726
DTSTAMP:20260423T162311
CREATED:20251220T115336Z
LAST-MODIFIED:20260206T114748Z
UID:45131-1782864000-1785023999@www.choral-events.com
SUMMARY:Festival Choral International en Provence 2026
DESCRIPTION:
URL:https://www.choral-events.com/festival/festival-choral-international-en-provence-2026/
LOCATION:Provence\, France
CATEGORIES:2026,Festivals,Festivals France,France,France - Concours
ATTACH;FMTTYPE=image/jpeg:https://www.choral-events.com/wp-content/uploads/2025/12/Festival-Provence.jpg
END:VEVENT
BEGIN:VEVENT
DTSTART;VALUE=DATE:20260701
DTEND;VALUE=DATE:20260726
DTSTAMP:20260423T162311
CREATED:20260118T120607Z
LAST-MODIFIED:20260205T085657Z
UID:45754-1782864000-1785023999@www.choral-events.com
SUMMARY:Festival Choral International en Aveyron 2026
DESCRIPTION:
URL:https://www.choral-events.com/festival/festival-choral-international-en-aveyron-2026/
LOCATION:Aveyron\, France
CATEGORIES:2026,Festivals,Festivals France,France,France - Concours
ATTACH;FMTTYPE=image/jpeg:https://www.choral-events.com/wp-content/uploads/2026/01/Aveyron-2.jpg
END:VEVENT
BEGIN:VEVENT
DTSTART;VALUE=DATE:20260704
DTEND;VALUE=DATE:20260708
DTSTAMP:20260423T162311
CREATED:20251220T141006Z
LAST-MODIFIED:20260306T080627Z
UID:45165-1783123200-1783468799@www.choral-events.com
SUMMARY:Concours Choral International en Provence 2026
DESCRIPTION:
URL:https://www.choral-events.com/festival/concours-choral-international-en-provence-2026/
LOCATION:Provence\, France
CATEGORIES:2026,Concours,France
ATTACH;FMTTYPE=image/jpeg:https://www.choral-events.com/wp-content/uploads/2025/12/concours.jpg
END:VEVENT
BEGIN:VEVENT
DTSTART;VALUE=DATE:20261001
DTEND;VALUE=DATE:20261006
DTSTAMP:20260423T162311
CREATED:20260120T194300Z
LAST-MODIFIED:20260205T090254Z
UID:46171-1790812800-1791244799@www.choral-events.com
SUMMARY:Festival Choral International de la Côte Amalfitaine 2026
DESCRIPTION:
URL:https://www.choral-events.com/festival/festival-choral-international-cote-aamalfitaine-italie-2026/
LOCATION:Côte Amalfitaine\, Italy
CATEGORIES:2026,Festivals,Italie
ATTACH;FMTTYPE=image/jpeg:https://www.choral-events.com/wp-content/uploads/2026/01/Cote-amalfitaine-1.jpg
END:VEVENT
BEGIN:VEVENT
DTSTART;VALUE=DATE:20261015
DTEND;VALUE=DATE:20261020
DTSTAMP:20260423T162311
CREATED:20260120T195939Z
LAST-MODIFIED:20260205T085746Z
UID:46182-1792022400-1792454399@www.choral-events.com
SUMMARY:Festival Choral International en Champagne 2026
DESCRIPTION:
URL:https://www.choral-events.com/festival/festival-choral-international-en-champagne-france-2026/
LOCATION:Champagne\, France
CATEGORIES:2026,Festivals,Festivals France,France
ATTACH;FMTTYPE=image/jpeg:https://www.choral-events.com/wp-content/uploads/2026/01/Reims.jpg
END:VEVENT
BEGIN:VEVENT
DTSTART;VALUE=DATE:20261204
DTEND;VALUE=DATE:20261222
DTSTAMP:20260423T162311
CREATED:20260120T201359Z
LAST-MODIFIED:20260205T085849Z
UID:46190-1796342400-1797897599@www.choral-events.com
SUMMARY:Festival Choral International en Provence Edition Noël 2026
DESCRIPTION:
URL:https://www.choral-events.com/festival/festival-choral-international-de-noel-en-provence-2026/
LOCATION:Provence\, France
CATEGORIES:2026,Festivals,Festivals France,France
ATTACH;FMTTYPE=image/jpeg:https://www.choral-events.com/wp-content/uploads/2026/01/Noel-en-Provence.jpg
END:VEVENT
BEGIN:VEVENT
DTSTART;VALUE=DATE:20261210
DTEND;VALUE=DATE:20261215
DTSTAMP:20260423T162311
CREATED:20260120T200505Z
LAST-MODIFIED:20260228T121757Z
UID:46188-1796860800-1797292799@www.choral-events.com
SUMMARY:Festival Choral International de Milan Edition Noël 2026
DESCRIPTION:
URL:https://www.choral-events.com/festival/festival-choral-international-de-milan-noel-2026/
LOCATION:Milan\, Italy
CATEGORIES:2026,Festivals,Italie
ATTACH;FMTTYPE=image/jpeg:https://www.choral-events.com/wp-content/uploads/2026/01/Milan-noel.jpg
END:VEVENT
END:VCALENDAR