BEGIN:VCALENDAR
VERSION:2.0
PRODID:-//Choral Events - ECPv6.15.20//NONSGML v1.0//EN
CALSCALE:GREGORIAN
METHOD:PUBLISH
X-WR-CALNAME:Choral Events
X-ORIGINAL-URL:https://www.choral-events.com/es/
X-WR-CALDESC:Eventos para Choral Events
REFRESH-INTERVAL;VALUE=DURATION:PT1H
X-Robots-Tag:noindex
X-PUBLISHED-TTL:PT1H
BEGIN:VTIMEZONE
TZID:Europe/Paris
BEGIN:DAYLIGHT
TZOFFSETFROM:+0100
TZOFFSETTO:+0200
TZNAME:CEST
DTSTART:20250330T010000
END:DAYLIGHT
BEGIN:STANDARD
TZOFFSETFROM:+0200
TZOFFSETTO:+0100
TZNAME:CET
DTSTART:20251026T010000
END:STANDARD
BEGIN:DAYLIGHT
TZOFFSETFROM:+0100
TZOFFSETTO:+0200
TZNAME:CEST
DTSTART:20260329T010000
END:DAYLIGHT
BEGIN:STANDARD
TZOFFSETFROM:+0200
TZOFFSETTO:+0100
TZNAME:CET
DTSTART:20261025T010000
END:STANDARD
BEGIN:DAYLIGHT
TZOFFSETFROM:+0100
TZOFFSETTO:+0200
TZNAME:CEST
DTSTART:20270328T010000
END:DAYLIGHT
BEGIN:STANDARD
TZOFFSETFROM:+0200
TZOFFSETTO:+0100
TZNAME:CET
DTSTART:20271031T010000
END:STANDARD
END:VTIMEZONE
BEGIN:VEVENT
DTSTART;VALUE=DATE:20260323
DTEND;VALUE=DATE:20260428
DTSTAMP:20260423T185646
CREATED:20260120T190347Z
LAST-MODIFIED:20260308T132109Z
UID:48596-1774224000-1777334399@www.choral-events.com
SUMMARY:Festival Coral Internacional de Toscana 2026
DESCRIPTION:
URL:https://www.choral-events.com/es/festival/festival-coral-internacional-en-la-toscana-2026/
LOCATION:Toscana\, Italy
CATEGORIES:2026,Festivales,Italia
ATTACH;FMTTYPE=image/jpeg:https://www.choral-events.com/wp-content/uploads/2026/01/Toscane.jpg
END:VEVENT
BEGIN:VEVENT
DTSTART;VALUE=DATE:20260401
DTEND;VALUE=DATE:20260701
DTSTAMP:20260423T185646
CREATED:20260120T191715Z
LAST-MODIFIED:20260308T131516Z
UID:48806-1775001600-1782863999@www.choral-events.com
SUMMARY:Encuentros Corales del Sol 2026
DESCRIPTION:
URL:https://www.choral-events.com/es/festival/encuentros-de-coros-del-sol-2026/
LOCATION:Provenza y Costa Azul\, France
CATEGORIES:2026,Festivales,Festivales en Francia,Francia
ATTACH;FMTTYPE=image/jpeg:https://www.choral-events.com/wp-content/uploads/2026/01/Cote-dAzur.jpg
END:VEVENT
BEGIN:VEVENT
DTSTART;VALUE=DATE:20260507
DTEND;VALUE=DATE:20260512
DTSTAMP:20260423T185646
CREATED:20260120T192318Z
LAST-MODIFIED:20260313T172531Z
UID:48574-1778112000-1778543999@www.choral-events.com
SUMMARY:Festival Coral Internacional de Eslovenia 2026
DESCRIPTION:
URL:https://www.choral-events.com/es/festival/festival-coral-internacional-de-eslovenia-2026/
LOCATION:Liubliana\, Slovenia
CATEGORIES:2026,Eslovenia,Festivales
ATTACH;FMTTYPE=image/jpeg:https://www.choral-events.com/wp-content/uploads/2026/01/CHoral-Events-Festivals-photo-a-la-Une-1.jpg
END:VEVENT
BEGIN:VEVENT
DTSTART;VALUE=DATE:20260521
DTEND;VALUE=DATE:20260526
DTSTAMP:20260423T185646
CREATED:20260120T192958Z
LAST-MODIFIED:20260308T132426Z
UID:48556-1779321600-1779753599@www.choral-events.com
SUMMARY:Festival Coral Internacional de Milán 2026
DESCRIPTION:
URL:https://www.choral-events.com/es/festival/festival-coral-internacional-de-milan-2026/
LOCATION:Milán\, Italy
CATEGORIES:2026,Festivales,Italia
ATTACH;FMTTYPE=image/jpeg:https://www.choral-events.com/wp-content/uploads/2026/01/Milan-2.jpg
END:VEVENT
BEGIN:VEVENT
DTSTART;VALUE=DATE:20260528
DTEND;VALUE=DATE:20260602
DTSTAMP:20260423T185646
CREATED:20251111T162117Z
LAST-MODIFIED:20260313T172512Z
UID:48680-1779926400-1780358399@www.choral-events.com
SUMMARY:Festival Coral Internacional de Normandía 2026
DESCRIPTION:
URL:https://www.choral-events.com/es/festival/festival-coral-internacional-en-normandia-2026/
LOCATION:Normandía\, France
CATEGORIES:2026,Festivales,Festivales en Francia,Francia
ATTACH;FMTTYPE=image/jpeg:https://www.choral-events.com/wp-content/uploads/2025/12/Normandie.jpg
END:VEVENT
BEGIN:VEVENT
DTSTART;VALUE=DATE:20260611
DTEND;VALUE=DATE:20260616
DTSTAMP:20260423T185646
CREATED:20260202T094540Z
LAST-MODIFIED:20260308T132511Z
UID:48503-1781136000-1781567999@www.choral-events.com
SUMMARY:Festival Coral Internacional de Roma 2026
DESCRIPTION:
URL:https://www.choral-events.com/es/festival/festival-coral-internacional-de-roma-2026/
CATEGORIES:2026,Festivales,Italia
ATTACH;FMTTYPE=image/jpeg:https://www.choral-events.com/wp-content/uploads/2026/01/Rome.jpg
END:VEVENT
BEGIN:VEVENT
DTSTART;VALUE=DATE:20260701
DTEND;VALUE=DATE:20260726
DTSTAMP:20260423T185646
CREATED:20251220T115336Z
LAST-MODIFIED:20260313T172511Z
UID:48837-1782864000-1785023999@www.choral-events.com
SUMMARY:Festival Coral Internacional en Provenza 2026
DESCRIPTION:
URL:https://www.choral-events.com/es/festival/festival-coral-internacional-en-provenza-2026/
LOCATION:Provenza\, France
CATEGORIES:2026,Festivales,Festivales en Francia,Francia,Francia - Concours
ATTACH;FMTTYPE=image/jpeg:https://www.choral-events.com/wp-content/uploads/2025/12/Festival-Provence.jpg
END:VEVENT
BEGIN:VEVENT
DTSTART;VALUE=DATE:20260701
DTEND;VALUE=DATE:20260726
DTSTAMP:20260423T185646
CREATED:20260118T120607Z
LAST-MODIFIED:20260308T131851Z
UID:48636-1782864000-1785023999@www.choral-events.com
SUMMARY:Festival Coral Internacional en Aveyron 2026
DESCRIPTION:
URL:https://www.choral-events.com/es/festival/festival-coral-internacional-en-aveyron-2026/
LOCATION:Aveyron\, France
CATEGORIES:2026,Festivales,Festivales en Francia,Francia,Francia - Concours
ATTACH;FMTTYPE=image/jpeg:https://www.choral-events.com/wp-content/uploads/2026/01/Aveyron-2.jpg
END:VEVENT
BEGIN:VEVENT
DTSTART;VALUE=DATE:20260704
DTEND;VALUE=DATE:20260708
DTSTAMP:20260423T185646
CREATED:20251220T141006Z
LAST-MODIFIED:20260313T172514Z
UID:48679-1783123200-1783468799@www.choral-events.com
SUMMARY:Concurso Coral Internacional de Provenza 2026
DESCRIPTION:
URL:https://www.choral-events.com/es/festival/concours-coral-internacional-en-provenza-2026/
LOCATION:Provenza\, France
CATEGORIES:2026,Concours,Francia
ATTACH;FMTTYPE=image/jpeg:https://www.choral-events.com/wp-content/uploads/2025/12/concours.jpg
END:VEVENT
BEGIN:VEVENT
DTSTART;VALUE=DATE:20261001
DTEND;VALUE=DATE:20261006
DTSTAMP:20260423T185646
CREATED:20260120T194300Z
LAST-MODIFIED:20260308T132640Z
UID:48559-1790812800-1791244799@www.choral-events.com
SUMMARY:Festival Coral Internacional de la Costa Amalfitana 2026
DESCRIPTION:
URL:https://www.choral-events.com/es/festival/festival-coral-internacional-de-la-costa-amalfitana-2026/
LOCATION:Costa Amalfitana\, Italy
CATEGORIES:2026,Festivales,Italia
ATTACH;FMTTYPE=image/jpeg:https://www.choral-events.com/wp-content/uploads/2026/01/Cote-amalfitaine-1.jpg
END:VEVENT
BEGIN:VEVENT
DTSTART;VALUE=DATE:20261015
DTEND;VALUE=DATE:20261020
DTSTAMP:20260423T185646
CREATED:20260120T195939Z
LAST-MODIFIED:20260308T132546Z
UID:48543-1792022400-1792454399@www.choral-events.com
SUMMARY:Festival Coral Internacional en Champaña 2026
DESCRIPTION:
URL:https://www.choral-events.com/es/festival/festival-coral-internacional-en-champana-2026/
LOCATION:Champagne\, France
CATEGORIES:2026,Festivales,Festivales en Francia,Francia
ATTACH;FMTTYPE=image/jpeg:https://www.choral-events.com/wp-content/uploads/2026/01/Reims.jpg
END:VEVENT
BEGIN:VEVENT
DTSTART;VALUE=DATE:20261204
DTEND;VALUE=DATE:20261222
DTSTAMP:20260423T185646
CREATED:20260120T201359Z
LAST-MODIFIED:20260308T132834Z
UID:48505-1796342400-1797897599@www.choral-events.com
SUMMARY:Festival Coral Internacional de Provenza - Edición Navidad 2026
DESCRIPTION:
URL:https://www.choral-events.com/es/festival/festival-coral-internacional-en-provence-edicion-navidad-2026/
LOCATION:Provenza\, France
CATEGORIES:2026,Festivales,Festivales en Francia,Francia
ATTACH;FMTTYPE=image/jpeg:https://www.choral-events.com/wp-content/uploads/2026/01/Noel-en-Provence.jpg
END:VEVENT
BEGIN:VEVENT
DTSTART;VALUE=DATE:20261210
DTEND;VALUE=DATE:20261215
DTSTAMP:20260423T185646
CREATED:20260120T200505Z
LAST-MODIFIED:20260308T132734Z
UID:48518-1796860800-1797292799@www.choral-events.com
SUMMARY:Festival Coral Internacional de Milán Edición Navidad 2026
DESCRIPTION:
URL:https://www.choral-events.com/es/festival/festival-coral-internacional-de-milan-edicion-navidad-2026/
LOCATION:Milán\, Italy
CATEGORIES:2026,Festivales,Italia
ATTACH;FMTTYPE=image/jpeg:https://www.choral-events.com/wp-content/uploads/2026/01/Milan-noel.jpg
END:VEVENT
END:VCALENDAR