BEGIN:VCALENDAR
VERSION:2.0
PRODID:-//Choral Events - ECPv6.15.20//NONSGML v1.0//EN
CALSCALE:GREGORIAN
METHOD:PUBLISH
X-WR-CALNAME:Choral Events
X-ORIGINAL-URL:https://www.choral-events.com/en/
X-WR-CALDESC:Events for Choral Events
REFRESH-INTERVAL;VALUE=DURATION:PT1H
X-Robots-Tag:noindex
X-PUBLISHED-TTL:PT1H
BEGIN:VTIMEZONE
TZID:Europe/Paris
BEGIN:DAYLIGHT
TZOFFSETFROM:+0100
TZOFFSETTO:+0200
TZNAME:CEST
DTSTART:20250330T010000
END:DAYLIGHT
BEGIN:STANDARD
TZOFFSETFROM:+0200
TZOFFSETTO:+0100
TZNAME:CET
DTSTART:20251026T010000
END:STANDARD
BEGIN:DAYLIGHT
TZOFFSETFROM:+0100
TZOFFSETTO:+0200
TZNAME:CEST
DTSTART:20260329T010000
END:DAYLIGHT
BEGIN:STANDARD
TZOFFSETFROM:+0200
TZOFFSETTO:+0100
TZNAME:CET
DTSTART:20261025T010000
END:STANDARD
BEGIN:DAYLIGHT
TZOFFSETFROM:+0100
TZOFFSETTO:+0200
TZNAME:CEST
DTSTART:20270328T010000
END:DAYLIGHT
BEGIN:STANDARD
TZOFFSETFROM:+0200
TZOFFSETTO:+0100
TZNAME:CET
DTSTART:20271031T010000
END:STANDARD
END:VTIMEZONE
BEGIN:VEVENT
DTSTART;VALUE=DATE:20260323
DTEND;VALUE=DATE:20260428
DTSTAMP:20260423T201242
CREATED:20260120T190347Z
LAST-MODIFIED:20260307T145320Z
UID:48590-1774224000-1777334399@www.choral-events.com
SUMMARY:International Choir Festival of Tuscany 2026
DESCRIPTION:
URL:https://www.choral-events.com/en/festival/international-choral-festival-in-tuscany-2026/
LOCATION:Tuscany\, Italy
CATEGORIES:2026,Festivals,Italy
ATTACH;FMTTYPE=image/jpeg:https://www.choral-events.com/wp-content/uploads/2026/01/Toscane.jpg
END:VEVENT
BEGIN:VEVENT
DTSTART;VALUE=DATE:20260401
DTEND;VALUE=DATE:20260701
DTSTAMP:20260423T201242
CREATED:20260120T191715Z
LAST-MODIFIED:20260307T145220Z
UID:48586-1775001600-1782863999@www.choral-events.com
SUMMARY:Choir Meetings of the Sun 2026
DESCRIPTION:
URL:https://www.choral-events.com/en/festival/choirs-of-the-sun-meetings-2026/
LOCATION:Provence & French Riviera\, France
CATEGORIES:2026,Festivals,Festivals France,France
ATTACH;FMTTYPE=image/jpeg:https://www.choral-events.com/wp-content/uploads/2026/01/Cote-dAzur.jpg
END:VEVENT
BEGIN:VEVENT
DTSTART;VALUE=DATE:20260507
DTEND;VALUE=DATE:20260512
DTSTAMP:20260423T201242
CREATED:20260120T192318Z
LAST-MODIFIED:20260307T144748Z
UID:48571-1778112000-1778543999@www.choral-events.com
SUMMARY:2026 International Choral Festival of Slovenia
DESCRIPTION:
URL:https://www.choral-events.com/en/festival/2026-international-choral-festival-of-slovenia/
LOCATION:Ljubljana\, Slovenia
CATEGORIES:2026,Festivals,Slovenia
ATTACH;FMTTYPE=image/jpeg:https://www.choral-events.com/wp-content/uploads/2026/01/CHoral-Events-Festivals-photo-a-la-Une-1.jpg
END:VEVENT
BEGIN:VEVENT
DTSTART;VALUE=DATE:20260521
DTEND;VALUE=DATE:20260526
DTSTAMP:20260423T201242
CREATED:20260120T192958Z
LAST-MODIFIED:20260307T144709Z
UID:48536-1779321600-1779753599@www.choral-events.com
SUMMARY:Milan International Choral Festival 2026
DESCRIPTION:
URL:https://www.choral-events.com/en/festival/milan-international-choral-festival-2026/
LOCATION:Milan\, Italy
CATEGORIES:2026,Festivals,Italy
ATTACH;FMTTYPE=image/jpeg:https://www.choral-events.com/wp-content/uploads/2026/01/Milan-2.jpg
END:VEVENT
BEGIN:VEVENT
DTSTART;VALUE=DATE:20260528
DTEND;VALUE=DATE:20260602
DTSTAMP:20260423T201242
CREATED:20251111T162117Z
LAST-MODIFIED:20260313T172513Z
UID:48644-1779926400-1780358399@www.choral-events.com
SUMMARY:International Choral Festival in Normandy 2026
DESCRIPTION:
URL:https://www.choral-events.com/en/festival/international-choral-festival-in-normandy-2026/
LOCATION:Normandy\, France
CATEGORIES:2026,Festivals,Festivals France,France
ATTACH;FMTTYPE=image/jpeg:https://www.choral-events.com/wp-content/uploads/2025/12/Normandie.jpg
END:VEVENT
BEGIN:VEVENT
DTSTART;VALUE=DATE:20260611
DTEND;VALUE=DATE:20260616
DTSTAMP:20260423T201242
CREATED:20260202T094540Z
LAST-MODIFIED:20260307T144910Z
UID:48535-1781136000-1781567999@www.choral-events.com
SUMMARY:International Choir Festival of Roma 2026
DESCRIPTION:
URL:https://www.choral-events.com/en/festival/rome-international-choral-festival-2026/
CATEGORIES:2026,Festivals,Italy
ATTACH;FMTTYPE=image/jpeg:https://www.choral-events.com/wp-content/uploads/2026/01/Rome.jpg
END:VEVENT
BEGIN:VEVENT
DTSTART;VALUE=DATE:20260701
DTEND;VALUE=DATE:20260726
DTSTAMP:20260423T201242
CREATED:20251220T115336Z
LAST-MODIFIED:20260313T172532Z
UID:48659-1782864000-1785023999@www.choral-events.com
SUMMARY:International Choral Festival in Provence 2026
DESCRIPTION:
URL:https://www.choral-events.com/en/festival/international-choral-festival-in-provence-2026/
LOCATION:Provence\, France
CATEGORIES:2026,Festivals,Festivals France,France,France - Competition
ATTACH;FMTTYPE=image/jpeg:https://www.choral-events.com/wp-content/uploads/2025/12/Festival-Provence.jpg
END:VEVENT
BEGIN:VEVENT
DTSTART;VALUE=DATE:20260701
DTEND;VALUE=DATE:20260726
DTSTAMP:20260423T201242
CREATED:20260118T120607Z
LAST-MODIFIED:20260307T144352Z
UID:48624-1782864000-1785023999@www.choral-events.com
SUMMARY:International Choral Festival in Aveyron 2026
DESCRIPTION:
URL:https://www.choral-events.com/en/festival/international-choral-festival-in-aveyron-2026/
LOCATION:Aveyron\, France
CATEGORIES:2026,Festivals,Festivals France,France,France - Competition
ATTACH;FMTTYPE=image/jpeg:https://www.choral-events.com/wp-content/uploads/2026/01/Aveyron-2.jpg
END:VEVENT
BEGIN:VEVENT
DTSTART;VALUE=DATE:20260704
DTEND;VALUE=DATE:20260708
DTSTAMP:20260423T201242
CREATED:20251220T141006Z
LAST-MODIFIED:20260313T172514Z
UID:48635-1783123200-1783468799@www.choral-events.com
SUMMARY:International Choir Competition in Provence 2026
DESCRIPTION:
URL:https://www.choral-events.com/en/festival/international-choral-competition-in-provence-2026/
LOCATION:Provence\, France
CATEGORIES:2026,Competition,France
ATTACH;FMTTYPE=image/jpeg:https://www.choral-events.com/wp-content/uploads/2025/12/concours.jpg
END:VEVENT
BEGIN:VEVENT
DTSTART;VALUE=DATE:20261001
DTEND;VALUE=DATE:20261006
DTSTAMP:20260423T201242
CREATED:20260120T194300Z
LAST-MODIFIED:20260307T144304Z
UID:48523-1790812800-1791244799@www.choral-events.com
SUMMARY:International Choir Festival of the Amalfi Coast 2026
DESCRIPTION:
URL:https://www.choral-events.com/en/festival/amalfi-coast-international-choral-festival-2026/
LOCATION:Amalfi Coast\, Italy
CATEGORIES:2026,Festivals,Italy
ATTACH;FMTTYPE=image/jpeg:https://www.choral-events.com/wp-content/uploads/2026/01/Cote-amalfitaine-1.jpg
END:VEVENT
BEGIN:VEVENT
DTSTART;VALUE=DATE:20261015
DTEND;VALUE=DATE:20261020
DTSTAMP:20260423T201242
CREATED:20260120T195939Z
LAST-MODIFIED:20260307T143237Z
UID:48521-1792022400-1792454399@www.choral-events.com
SUMMARY:International Choir Festival in Champagne 2026
DESCRIPTION:
URL:https://www.choral-events.com/en/festival/international-choral-festival-in-champagne-2026/
LOCATION:Champagne\, France
CATEGORIES:2026,Festivals,Festivals France,France
ATTACH;FMTTYPE=image/jpeg:https://www.choral-events.com/wp-content/uploads/2026/01/Reims.jpg
END:VEVENT
BEGIN:VEVENT
DTSTART;VALUE=DATE:20261204
DTEND;VALUE=DATE:20261222
DTSTAMP:20260423T201242
CREATED:20260120T201359Z
LAST-MODIFIED:20260307T143149Z
UID:48538-1796342400-1797897599@www.choral-events.com
SUMMARY:International Choir Festival in Provence – Christmas Edition 2026
DESCRIPTION:
URL:https://www.choral-events.com/en/festival/international-choral-festival-in-provence-christmas-edition-2026/
LOCATION:Provence\, France
CATEGORIES:2026,Festivals,Festivals France,France
ATTACH;FMTTYPE=image/jpeg:https://www.choral-events.com/wp-content/uploads/2026/01/Noel-en-Provence.jpg
END:VEVENT
BEGIN:VEVENT
DTSTART;VALUE=DATE:20261210
DTEND;VALUE=DATE:20261215
DTSTAMP:20260423T201242
CREATED:20260120T200505Z
LAST-MODIFIED:20260307T143103Z
UID:48509-1796860800-1797292799@www.choral-events.com
SUMMARY:Milan International Choral Festival Christmas Edition 2026
DESCRIPTION:
URL:https://www.choral-events.com/en/festival/milan-international-choral-festival-christmas-edition-2026/
LOCATION:Milan\, Italy
CATEGORIES:2026,Festivals,Italy
ATTACH;FMTTYPE=image/jpeg:https://www.choral-events.com/wp-content/uploads/2026/01/Milan-noel.jpg
END:VEVENT
END:VCALENDAR